 BEGIN:VCALENDAR
VERSION:2.0
PRODID:-//Dudley Carers - ECPv6.6.4.2//NONSGML v1.0//EN
CALSCALE:GREGORIAN
METHOD:PUBLISH
X-WR-CALNAME:Dudley Carers
X-ORIGINAL-URL:https://carerfriendlydudley.org.uk
X-WR-CALDESC:Events for Dudley Carers
REFRESH-INTERVAL;VALUE=DURATION:PT1H
X-Robots-Tag:noindex
X-PUBLISHED-TTL:PT1H
BEGIN:VTIMEZONE
TZID:Europe/London
BEGIN:DAYLIGHT
TZOFFSETFROM:+0000
TZOFFSETTO:+0100
TZNAME:BST
DTSTART:20260329T010000
END:DAYLIGHT
BEGIN:STANDARD
TZOFFSETFROM:+0100
TZOFFSETTO:+0000
TZNAME:GMT
DTSTART:20261025T010000
END:STANDARD
END:VTIMEZONE
BEGIN:VEVENT
DTSTART;TZID=Europe/London:20260423T093000
DTEND;TZID=Europe/London:20260423T113000
DTSTAMP:20260422T112805
CREATED:20260414T140544Z
LAST-MODIFIED:20260414T140544Z
UID:10006515-1776936600-1776943800@carerfriendlydudley.org.uk
SUMMARY:Live For Less - Dudley Adult Social Care
DESCRIPTION:Join us for a free\, beginner-friendly session on managing money and budgeting\, designed for adults aged 19+ who are not currently working.The session covers simple ways to budget\, reduce everyday costs\, and feel more confident handling money. No prior knowledge is needed\, and it’s aimed at creating a supportive\, stress-free environment for learning practical financial skills. \nWhere: St. Pauls Church\, Hawbush Road\, Hawbush\, Brierley Hill\, DY5 3NL \nWhen: Thursday 23rd April\, 9:30-11:30 \nphone: 01384 818143 \nEmail: ACL@dudley.gov.uk \n  \n 
URL:https://carerfriendlydudley.org.uk/event/live-for-less-dudley-adult-social-care/
LOCATION:St Pauls Church\, Hawbush Road\, Birmingham\, DY5 3NL
END:VEVENT
BEGIN:VEVENT
DTSTART;TZID=Europe/London:20260428T093000
DTEND;TZID=Europe/London:20260428T113000
DTSTAMP:20260422T112805
CREATED:20260414T142903Z
LAST-MODIFIED:20260414T142903Z
UID:10006516-1777368600-1777375800@carerfriendlydudley.org.uk
SUMMARY:Your Wellbeing\, Your Way - A DIY Self-Care Booklet
DESCRIPTION:Join this free\, creative workshop at St. Pauls Church (Hawbush) In this 2-hour session\, you’ll explore simple self-care strategies and turn them into your own personalised pocket booklet—perfect for daily support. Open to everyone with no prior experience needed\, this workshop helps build confidence\, emotional awareness\, and mindfulness through creative activities. \nWhere: Hawbush Road\, Brierley Hill\, DY5 3NL \nWhen: Tuesday 28 April 2026 at 9:30-11:30Contact: 01384 818143 \nEmail: ACL@dudley.gov.uk
URL:https://carerfriendlydudley.org.uk/event/your-wellbeing-your-way-a-diy-self-care-booklet/
LOCATION:St Pauls Church\, Hawbush Road\, Birmingham\, DY5 3NL
END:VEVENT
END:VCALENDAR