 BEGIN:VCALENDAR
VERSION:2.0
PRODID:-//Dudley Carers - ECPv6.6.4.2//NONSGML v1.0//EN
CALSCALE:GREGORIAN
METHOD:PUBLISH
X-ORIGINAL-URL:https://carerfriendlydudley.org.uk
X-WR-CALDESC:Events for Dudley Carers
REFRESH-INTERVAL;VALUE=DURATION:PT1H
X-Robots-Tag:noindex
X-PUBLISHED-TTL:PT1H
BEGIN:VTIMEZONE
TZID:Europe/London
BEGIN:DAYLIGHT
TZOFFSETFROM:+0000
TZOFFSETTO:+0100
TZNAME:BST
DTSTART:20250330T010000
END:DAYLIGHT
BEGIN:STANDARD
TZOFFSETFROM:+0100
TZOFFSETTO:+0000
TZNAME:GMT
DTSTART:20251026T010000
END:STANDARD
END:VTIMEZONE
BEGIN:VEVENT
DTSTART;TZID=Europe/London:20250922T100000
DTEND;TZID=Europe/London:20250922T120000
DTSTAMP:20260423T145414
CREATED:20250729T073925Z
LAST-MODIFIED:20251007T083808Z
UID:10004084-1758535200-1758542400@carerfriendlydudley.org.uk
SUMMARY:Planning for the Future
DESCRIPTION:Planning for the Future\n·      Monday 22nd September 2025 10-12pm Queens Cross Centre Wellington Road Dudley DY1 1RB\n·      Monday  27th October 2025  1-3pm Brett Young Centre Old Hawne Lane Halesowen B63 3TB\n·      Monday 1st December 2025 10am – 12 noon Brett young Centre Old Hawne lane Halesowen B63 3TB\n\nInformation session about taking control of a person’s affairs\, through Enduring or Lasting Power of Attorney\, Appointeeship\, Court of Protection etc. Should I make a Will? Planning for future care costs different ways of property ownership.
URL:https://carerfriendlydudley.org.uk/event/planning-for-the-future-2/
LOCATION:Queens cross Centre\, Wellington Road\, Dudley\, DY11RB
ATTACH;FMTTYPE=application/pdf:https://carerfriendlydudley.org.uk/wp-content/uploads/2025/07/Future-Planning.pdf
END:VEVENT
END:VCALENDAR