 BEGIN:VCALENDAR
VERSION:2.0
PRODID:-//Dudley Carers - ECPv6.6.4.2//NONSGML v1.0//EN
CALSCALE:GREGORIAN
METHOD:PUBLISH
X-ORIGINAL-URL:https://carerfriendlydudley.org.uk
X-WR-CALDESC:Events for Dudley Carers
REFRESH-INTERVAL;VALUE=DURATION:PT1H
X-Robots-Tag:noindex
X-PUBLISHED-TTL:PT1H
BEGIN:VTIMEZONE
TZID:Europe/London
BEGIN:DAYLIGHT
TZOFFSETFROM:+0000
TZOFFSETTO:+0100
TZNAME:BST
DTSTART:20280326T010000
END:DAYLIGHT
BEGIN:STANDARD
TZOFFSETFROM:+0100
TZOFFSETTO:+0000
TZNAME:GMT
DTSTART:20281029T010000
END:STANDARD
BEGIN:DAYLIGHT
TZOFFSETFROM:+0000
TZOFFSETTO:+0100
TZNAME:BST
DTSTART:20290325T010000
END:DAYLIGHT
BEGIN:STANDARD
TZOFFSETFROM:+0100
TZOFFSETTO:+0000
TZNAME:GMT
DTSTART:20291028T010000
END:STANDARD
BEGIN:DAYLIGHT
TZOFFSETFROM:+0000
TZOFFSETTO:+0100
TZNAME:BST
DTSTART:20300331T010000
END:DAYLIGHT
BEGIN:STANDARD
TZOFFSETFROM:+0100
TZOFFSETTO:+0000
TZNAME:GMT
DTSTART:20301027T010000
END:STANDARD
BEGIN:DAYLIGHT
TZOFFSETFROM:+0000
TZOFFSETTO:+0100
TZNAME:BST
DTSTART:20310330T010000
END:DAYLIGHT
BEGIN:STANDARD
TZOFFSETFROM:+0100
TZOFFSETTO:+0000
TZNAME:GMT
DTSTART:20311026T010000
END:STANDARD
END:VTIMEZONE
BEGIN:VEVENT
DTSTART;TZID=Europe/London:20281120T120000
DTEND;TZID=Europe/London:20281120T140000
DTSTAMP:20260425T133410
CREATED:20241119T161831Z
LAST-MODIFIED:20260324T153221Z
UID:10002157-1858334400-1858341600@carerfriendlydudley.org.uk
SUMMARY:Mens Group - Support for Male Carers
DESCRIPTION:Join us for a friendly and relaxed chat where you can receive support about being a male carer. \nMonthly sessions: \n3rd Monday of each month from 20th January 2025\, 12-2pm\, \nQueens Cross Centre\, Wellington Road\, Dudley\, DY1 1RB \nA group for male carers to socialise and take part in activities once a month.
URL:https://carerfriendlydudley.org.uk/event/mens-group-2/2028-11-20/
LOCATION:Queens Cross Center\, Wellington Road Dudley\, DY1 1RB
ATTACH;FMTTYPE=application/pdf:https://carerfriendlydudley.org.uk/wp-content/uploads/2024/11/Dudley-Mens-group.pdf
END:VEVENT
BEGIN:VEVENT
DTSTART;TZID=Europe/London:20281218T120000
DTEND;TZID=Europe/London:20281218T140000
DTSTAMP:20260425T133410
CREATED:20241119T161831Z
LAST-MODIFIED:20260324T153221Z
UID:10002158-1860753600-1860760800@carerfriendlydudley.org.uk
SUMMARY:Mens Group - Support for Male Carers
DESCRIPTION:Join us for a friendly and relaxed chat where you can receive support about being a male carer. \nMonthly sessions: \n3rd Monday of each month from 20th January 2025\, 12-2pm\, \nQueens Cross Centre\, Wellington Road\, Dudley\, DY1 1RB \nA group for male carers to socialise and take part in activities once a month.
URL:https://carerfriendlydudley.org.uk/event/mens-group-2/2028-12-18/
LOCATION:Queens Cross Center\, Wellington Road Dudley\, DY1 1RB
ATTACH;FMTTYPE=application/pdf:https://carerfriendlydudley.org.uk/wp-content/uploads/2024/11/Dudley-Mens-group.pdf
END:VEVENT
BEGIN:VEVENT
DTSTART;TZID=Europe/London:20290115T120000
DTEND;TZID=Europe/London:20290115T140000
DTSTAMP:20260425T133410
CREATED:20241119T161831Z
LAST-MODIFIED:20260324T153221Z
UID:10002159-1863172800-1863180000@carerfriendlydudley.org.uk
SUMMARY:Mens Group - Support for Male Carers
DESCRIPTION:Join us for a friendly and relaxed chat where you can receive support about being a male carer. \nMonthly sessions: \n3rd Monday of each month from 20th January 2025\, 12-2pm\, \nQueens Cross Centre\, Wellington Road\, Dudley\, DY1 1RB \nA group for male carers to socialise and take part in activities once a month.
URL:https://carerfriendlydudley.org.uk/event/mens-group-2/2029-01-15/
LOCATION:Queens Cross Center\, Wellington Road Dudley\, DY1 1RB
ATTACH;FMTTYPE=application/pdf:https://carerfriendlydudley.org.uk/wp-content/uploads/2024/11/Dudley-Mens-group.pdf
END:VEVENT
BEGIN:VEVENT
DTSTART;TZID=Europe/London:20290219T120000
DTEND;TZID=Europe/London:20290219T140000
DTSTAMP:20260425T133410
CREATED:20241119T161831Z
LAST-MODIFIED:20260324T153221Z
UID:10002160-1866196800-1866204000@carerfriendlydudley.org.uk
SUMMARY:Mens Group - Support for Male Carers
DESCRIPTION:Join us for a friendly and relaxed chat where you can receive support about being a male carer. \nMonthly sessions: \n3rd Monday of each month from 20th January 2025\, 12-2pm\, \nQueens Cross Centre\, Wellington Road\, Dudley\, DY1 1RB \nA group for male carers to socialise and take part in activities once a month.
URL:https://carerfriendlydudley.org.uk/event/mens-group-2/2029-02-19/
LOCATION:Queens Cross Center\, Wellington Road Dudley\, DY1 1RB
ATTACH;FMTTYPE=application/pdf:https://carerfriendlydudley.org.uk/wp-content/uploads/2024/11/Dudley-Mens-group.pdf
END:VEVENT
BEGIN:VEVENT
DTSTART;TZID=Europe/London:20290319T120000
DTEND;TZID=Europe/London:20290319T140000
DTSTAMP:20260425T133410
CREATED:20241119T161831Z
LAST-MODIFIED:20260324T153221Z
UID:10002161-1868616000-1868623200@carerfriendlydudley.org.uk
SUMMARY:Mens Group - Support for Male Carers
DESCRIPTION:Join us for a friendly and relaxed chat where you can receive support about being a male carer. \nMonthly sessions: \n3rd Monday of each month from 20th January 2025\, 12-2pm\, \nQueens Cross Centre\, Wellington Road\, Dudley\, DY1 1RB \nA group for male carers to socialise and take part in activities once a month.
URL:https://carerfriendlydudley.org.uk/event/mens-group-2/2029-03-19/
LOCATION:Queens Cross Center\, Wellington Road Dudley\, DY1 1RB
ATTACH;FMTTYPE=application/pdf:https://carerfriendlydudley.org.uk/wp-content/uploads/2024/11/Dudley-Mens-group.pdf
END:VEVENT
BEGIN:VEVENT
DTSTART;TZID=Europe/London:20290416T120000
DTEND;TZID=Europe/London:20290416T140000
DTSTAMP:20260425T133410
CREATED:20241119T161831Z
LAST-MODIFIED:20260324T153221Z
UID:10002162-1871035200-1871042400@carerfriendlydudley.org.uk
SUMMARY:Mens Group - Support for Male Carers
DESCRIPTION:Join us for a friendly and relaxed chat where you can receive support about being a male carer. \nMonthly sessions: \n3rd Monday of each month from 20th January 2025\, 12-2pm\, \nQueens Cross Centre\, Wellington Road\, Dudley\, DY1 1RB \nA group for male carers to socialise and take part in activities once a month.
URL:https://carerfriendlydudley.org.uk/event/mens-group-2/2029-04-16/
LOCATION:Queens Cross Center\, Wellington Road Dudley\, DY1 1RB
ATTACH;FMTTYPE=application/pdf:https://carerfriendlydudley.org.uk/wp-content/uploads/2024/11/Dudley-Mens-group.pdf
END:VEVENT
BEGIN:VEVENT
DTSTART;TZID=Europe/London:20290521T120000
DTEND;TZID=Europe/London:20290521T140000
DTSTAMP:20260425T133410
CREATED:20241119T161831Z
LAST-MODIFIED:20260324T153221Z
UID:10002163-1874059200-1874066400@carerfriendlydudley.org.uk
SUMMARY:Mens Group - Support for Male Carers
DESCRIPTION:Join us for a friendly and relaxed chat where you can receive support about being a male carer. \nMonthly sessions: \n3rd Monday of each month from 20th January 2025\, 12-2pm\, \nQueens Cross Centre\, Wellington Road\, Dudley\, DY1 1RB \nA group for male carers to socialise and take part in activities once a month.
URL:https://carerfriendlydudley.org.uk/event/mens-group-2/2029-05-21/
LOCATION:Queens Cross Center\, Wellington Road Dudley\, DY1 1RB
ATTACH;FMTTYPE=application/pdf:https://carerfriendlydudley.org.uk/wp-content/uploads/2024/11/Dudley-Mens-group.pdf
END:VEVENT
BEGIN:VEVENT
DTSTART;TZID=Europe/London:20290618T120000
DTEND;TZID=Europe/London:20290618T140000
DTSTAMP:20260425T133410
CREATED:20241119T161831Z
LAST-MODIFIED:20260324T153221Z
UID:10002164-1876478400-1876485600@carerfriendlydudley.org.uk
SUMMARY:Mens Group - Support for Male Carers
DESCRIPTION:Join us for a friendly and relaxed chat where you can receive support about being a male carer. \nMonthly sessions: \n3rd Monday of each month from 20th January 2025\, 12-2pm\, \nQueens Cross Centre\, Wellington Road\, Dudley\, DY1 1RB \nA group for male carers to socialise and take part in activities once a month.
URL:https://carerfriendlydudley.org.uk/event/mens-group-2/2029-06-18/
LOCATION:Queens Cross Center\, Wellington Road Dudley\, DY1 1RB
ATTACH;FMTTYPE=application/pdf:https://carerfriendlydudley.org.uk/wp-content/uploads/2024/11/Dudley-Mens-group.pdf
END:VEVENT
BEGIN:VEVENT
DTSTART;TZID=Europe/London:20290716T120000
DTEND;TZID=Europe/London:20290716T140000
DTSTAMP:20260425T133410
CREATED:20241119T161831Z
LAST-MODIFIED:20260324T153221Z
UID:10002165-1878897600-1878904800@carerfriendlydudley.org.uk
SUMMARY:Mens Group - Support for Male Carers
DESCRIPTION:Join us for a friendly and relaxed chat where you can receive support about being a male carer. \nMonthly sessions: \n3rd Monday of each month from 20th January 2025\, 12-2pm\, \nQueens Cross Centre\, Wellington Road\, Dudley\, DY1 1RB \nA group for male carers to socialise and take part in activities once a month.
URL:https://carerfriendlydudley.org.uk/event/mens-group-2/2029-07-16/
LOCATION:Queens Cross Center\, Wellington Road Dudley\, DY1 1RB
ATTACH;FMTTYPE=application/pdf:https://carerfriendlydudley.org.uk/wp-content/uploads/2024/11/Dudley-Mens-group.pdf
END:VEVENT
BEGIN:VEVENT
DTSTART;TZID=Europe/London:20290820T120000
DTEND;TZID=Europe/London:20290820T140000
DTSTAMP:20260425T133410
CREATED:20241119T161831Z
LAST-MODIFIED:20260324T153221Z
UID:10002166-1881921600-1881928800@carerfriendlydudley.org.uk
SUMMARY:Mens Group - Support for Male Carers
DESCRIPTION:Join us for a friendly and relaxed chat where you can receive support about being a male carer. \nMonthly sessions: \n3rd Monday of each month from 20th January 2025\, 12-2pm\, \nQueens Cross Centre\, Wellington Road\, Dudley\, DY1 1RB \nA group for male carers to socialise and take part in activities once a month.
URL:https://carerfriendlydudley.org.uk/event/mens-group-2/2029-08-20/
LOCATION:Queens Cross Center\, Wellington Road Dudley\, DY1 1RB
ATTACH;FMTTYPE=application/pdf:https://carerfriendlydudley.org.uk/wp-content/uploads/2024/11/Dudley-Mens-group.pdf
END:VEVENT
BEGIN:VEVENT
DTSTART;TZID=Europe/London:20290917T120000
DTEND;TZID=Europe/London:20290917T140000
DTSTAMP:20260425T133410
CREATED:20241119T161831Z
LAST-MODIFIED:20260324T153221Z
UID:10002167-1884340800-1884348000@carerfriendlydudley.org.uk
SUMMARY:Mens Group - Support for Male Carers
DESCRIPTION:Join us for a friendly and relaxed chat where you can receive support about being a male carer. \nMonthly sessions: \n3rd Monday of each month from 20th January 2025\, 12-2pm\, \nQueens Cross Centre\, Wellington Road\, Dudley\, DY1 1RB \nA group for male carers to socialise and take part in activities once a month.
URL:https://carerfriendlydudley.org.uk/event/mens-group-2/2029-09-17/
LOCATION:Queens Cross Center\, Wellington Road Dudley\, DY1 1RB
ATTACH;FMTTYPE=application/pdf:https://carerfriendlydudley.org.uk/wp-content/uploads/2024/11/Dudley-Mens-group.pdf
END:VEVENT
BEGIN:VEVENT
DTSTART;TZID=Europe/London:20291015T120000
DTEND;TZID=Europe/London:20291015T140000
DTSTAMP:20260425T133410
CREATED:20241119T161831Z
LAST-MODIFIED:20260324T153221Z
UID:10002168-1886760000-1886767200@carerfriendlydudley.org.uk
SUMMARY:Mens Group - Support for Male Carers
DESCRIPTION:Join us for a friendly and relaxed chat where you can receive support about being a male carer. \nMonthly sessions: \n3rd Monday of each month from 20th January 2025\, 12-2pm\, \nQueens Cross Centre\, Wellington Road\, Dudley\, DY1 1RB \nA group for male carers to socialise and take part in activities once a month.
URL:https://carerfriendlydudley.org.uk/event/mens-group-2/2029-10-15/
LOCATION:Queens Cross Center\, Wellington Road Dudley\, DY1 1RB
ATTACH;FMTTYPE=application/pdf:https://carerfriendlydudley.org.uk/wp-content/uploads/2024/11/Dudley-Mens-group.pdf
END:VEVENT
BEGIN:VEVENT
DTSTART;TZID=Europe/London:20291119T120000
DTEND;TZID=Europe/London:20291119T140000
DTSTAMP:20260425T133410
CREATED:20241119T161831Z
LAST-MODIFIED:20260324T153221Z
UID:10002169-1889784000-1889791200@carerfriendlydudley.org.uk
SUMMARY:Mens Group - Support for Male Carers
DESCRIPTION:Join us for a friendly and relaxed chat where you can receive support about being a male carer. \nMonthly sessions: \n3rd Monday of each month from 20th January 2025\, 12-2pm\, \nQueens Cross Centre\, Wellington Road\, Dudley\, DY1 1RB \nA group for male carers to socialise and take part in activities once a month.
URL:https://carerfriendlydudley.org.uk/event/mens-group-2/2029-11-19/
LOCATION:Queens Cross Center\, Wellington Road Dudley\, DY1 1RB
ATTACH;FMTTYPE=application/pdf:https://carerfriendlydudley.org.uk/wp-content/uploads/2024/11/Dudley-Mens-group.pdf
END:VEVENT
BEGIN:VEVENT
DTSTART;TZID=Europe/London:20291217T120000
DTEND;TZID=Europe/London:20291217T140000
DTSTAMP:20260425T133410
CREATED:20241119T161831Z
LAST-MODIFIED:20260324T153221Z
UID:10002176-1892203200-1892210400@carerfriendlydudley.org.uk
SUMMARY:Mens Group - Support for Male Carers
DESCRIPTION:Join us for a friendly and relaxed chat where you can receive support about being a male carer. \nMonthly sessions: \n3rd Monday of each month from 20th January 2025\, 12-2pm\, \nQueens Cross Centre\, Wellington Road\, Dudley\, DY1 1RB \nA group for male carers to socialise and take part in activities once a month.
URL:https://carerfriendlydudley.org.uk/event/mens-group-2/2029-12-17/
LOCATION:Queens Cross Center\, Wellington Road Dudley\, DY1 1RB
ATTACH;FMTTYPE=application/pdf:https://carerfriendlydudley.org.uk/wp-content/uploads/2024/11/Dudley-Mens-group.pdf
END:VEVENT
BEGIN:VEVENT
DTSTART;TZID=Europe/London:20300121T120000
DTEND;TZID=Europe/London:20300121T140000
DTSTAMP:20260425T133410
CREATED:20241119T161831Z
LAST-MODIFIED:20260324T153221Z
UID:10002177-1895227200-1895234400@carerfriendlydudley.org.uk
SUMMARY:Mens Group - Support for Male Carers
DESCRIPTION:Join us for a friendly and relaxed chat where you can receive support about being a male carer. \nMonthly sessions: \n3rd Monday of each month from 20th January 2025\, 12-2pm\, \nQueens Cross Centre\, Wellington Road\, Dudley\, DY1 1RB \nA group for male carers to socialise and take part in activities once a month.
URL:https://carerfriendlydudley.org.uk/event/mens-group-2/2030-01-21/
LOCATION:Queens Cross Center\, Wellington Road Dudley\, DY1 1RB
ATTACH;FMTTYPE=application/pdf:https://carerfriendlydudley.org.uk/wp-content/uploads/2024/11/Dudley-Mens-group.pdf
END:VEVENT
BEGIN:VEVENT
DTSTART;TZID=Europe/London:20300218T120000
DTEND;TZID=Europe/London:20300218T140000
DTSTAMP:20260425T133410
CREATED:20241119T161831Z
LAST-MODIFIED:20260324T153221Z
UID:10003781-1897646400-1897653600@carerfriendlydudley.org.uk
SUMMARY:Mens Group - Support for Male Carers
DESCRIPTION:Join us for a friendly and relaxed chat where you can receive support about being a male carer. \nMonthly sessions: \n3rd Monday of each month from 20th January 2025\, 12-2pm\, \nQueens Cross Centre\, Wellington Road\, Dudley\, DY1 1RB \nA group for male carers to socialise and take part in activities once a month.
URL:https://carerfriendlydudley.org.uk/event/mens-group-2/2030-02-18/
LOCATION:Queens Cross Center\, Wellington Road Dudley\, DY1 1RB
ATTACH;FMTTYPE=application/pdf:https://carerfriendlydudley.org.uk/wp-content/uploads/2024/11/Dudley-Mens-group.pdf
END:VEVENT
BEGIN:VEVENT
DTSTART;TZID=Europe/London:20300318T120000
DTEND;TZID=Europe/London:20300318T140000
DTSTAMP:20260425T133410
CREATED:20241119T161831Z
LAST-MODIFIED:20260324T153221Z
UID:10003782-1900065600-1900072800@carerfriendlydudley.org.uk
SUMMARY:Mens Group - Support for Male Carers
DESCRIPTION:Join us for a friendly and relaxed chat where you can receive support about being a male carer. \nMonthly sessions: \n3rd Monday of each month from 20th January 2025\, 12-2pm\, \nQueens Cross Centre\, Wellington Road\, Dudley\, DY1 1RB \nA group for male carers to socialise and take part in activities once a month.
URL:https://carerfriendlydudley.org.uk/event/mens-group-2/2030-03-18/
LOCATION:Queens Cross Center\, Wellington Road Dudley\, DY1 1RB
ATTACH;FMTTYPE=application/pdf:https://carerfriendlydudley.org.uk/wp-content/uploads/2024/11/Dudley-Mens-group.pdf
END:VEVENT
BEGIN:VEVENT
DTSTART;TZID=Europe/London:20300415T120000
DTEND;TZID=Europe/London:20300415T140000
DTSTAMP:20260425T133410
CREATED:20241119T161831Z
LAST-MODIFIED:20260324T153221Z
UID:10003783-1902484800-1902492000@carerfriendlydudley.org.uk
SUMMARY:Mens Group - Support for Male Carers
DESCRIPTION:Join us for a friendly and relaxed chat where you can receive support about being a male carer. \nMonthly sessions: \n3rd Monday of each month from 20th January 2025\, 12-2pm\, \nQueens Cross Centre\, Wellington Road\, Dudley\, DY1 1RB \nA group for male carers to socialise and take part in activities once a month.
URL:https://carerfriendlydudley.org.uk/event/mens-group-2/2030-04-15/
LOCATION:Queens Cross Center\, Wellington Road Dudley\, DY1 1RB
ATTACH;FMTTYPE=application/pdf:https://carerfriendlydudley.org.uk/wp-content/uploads/2024/11/Dudley-Mens-group.pdf
END:VEVENT
BEGIN:VEVENT
DTSTART;TZID=Europe/London:20300520T120000
DTEND;TZID=Europe/London:20300520T140000
DTSTAMP:20260425T133410
CREATED:20241119T161831Z
LAST-MODIFIED:20260324T153221Z
UID:10003784-1905508800-1905516000@carerfriendlydudley.org.uk
SUMMARY:Mens Group - Support for Male Carers
DESCRIPTION:Join us for a friendly and relaxed chat where you can receive support about being a male carer. \nMonthly sessions: \n3rd Monday of each month from 20th January 2025\, 12-2pm\, \nQueens Cross Centre\, Wellington Road\, Dudley\, DY1 1RB \nA group for male carers to socialise and take part in activities once a month.
URL:https://carerfriendlydudley.org.uk/event/mens-group-2/2030-05-20/
LOCATION:Queens Cross Center\, Wellington Road Dudley\, DY1 1RB
ATTACH;FMTTYPE=application/pdf:https://carerfriendlydudley.org.uk/wp-content/uploads/2024/11/Dudley-Mens-group.pdf
END:VEVENT
BEGIN:VEVENT
DTSTART;TZID=Europe/London:20300617T120000
DTEND;TZID=Europe/London:20300617T140000
DTSTAMP:20260425T133410
CREATED:20241119T161831Z
LAST-MODIFIED:20260324T153221Z
UID:10003785-1907928000-1907935200@carerfriendlydudley.org.uk
SUMMARY:Mens Group - Support for Male Carers
DESCRIPTION:Join us for a friendly and relaxed chat where you can receive support about being a male carer. \nMonthly sessions: \n3rd Monday of each month from 20th January 2025\, 12-2pm\, \nQueens Cross Centre\, Wellington Road\, Dudley\, DY1 1RB \nA group for male carers to socialise and take part in activities once a month.
URL:https://carerfriendlydudley.org.uk/event/mens-group-2/2030-06-17/
LOCATION:Queens Cross Center\, Wellington Road Dudley\, DY1 1RB
ATTACH;FMTTYPE=application/pdf:https://carerfriendlydudley.org.uk/wp-content/uploads/2024/11/Dudley-Mens-group.pdf
END:VEVENT
BEGIN:VEVENT
DTSTART;TZID=Europe/London:20300715T120000
DTEND;TZID=Europe/London:20300715T140000
DTSTAMP:20260425T133410
CREATED:20241119T161831Z
LAST-MODIFIED:20260324T153221Z
UID:10005281-1910347200-1910354400@carerfriendlydudley.org.uk
SUMMARY:Mens Group - Support for Male Carers
DESCRIPTION:Join us for a friendly and relaxed chat where you can receive support about being a male carer. \nMonthly sessions: \n3rd Monday of each month from 20th January 2025\, 12-2pm\, \nQueens Cross Centre\, Wellington Road\, Dudley\, DY1 1RB \nA group for male carers to socialise and take part in activities once a month.
URL:https://carerfriendlydudley.org.uk/event/mens-group-2/2030-07-15/
LOCATION:Queens Cross Center\, Wellington Road Dudley\, DY1 1RB
ATTACH;FMTTYPE=application/pdf:https://carerfriendlydudley.org.uk/wp-content/uploads/2024/11/Dudley-Mens-group.pdf
END:VEVENT
BEGIN:VEVENT
DTSTART;TZID=Europe/London:20300819T120000
DTEND;TZID=Europe/London:20300819T140000
DTSTAMP:20260425T133410
CREATED:20241119T161831Z
LAST-MODIFIED:20260324T153221Z
UID:10005282-1913371200-1913378400@carerfriendlydudley.org.uk
SUMMARY:Mens Group - Support for Male Carers
DESCRIPTION:Join us for a friendly and relaxed chat where you can receive support about being a male carer. \nMonthly sessions: \n3rd Monday of each month from 20th January 2025\, 12-2pm\, \nQueens Cross Centre\, Wellington Road\, Dudley\, DY1 1RB \nA group for male carers to socialise and take part in activities once a month.
URL:https://carerfriendlydudley.org.uk/event/mens-group-2/2030-08-19/
LOCATION:Queens Cross Center\, Wellington Road Dudley\, DY1 1RB
ATTACH;FMTTYPE=application/pdf:https://carerfriendlydudley.org.uk/wp-content/uploads/2024/11/Dudley-Mens-group.pdf
END:VEVENT
BEGIN:VEVENT
DTSTART;TZID=Europe/London:20300916T120000
DTEND;TZID=Europe/London:20300916T140000
DTSTAMP:20260425T133410
CREATED:20241119T161831Z
LAST-MODIFIED:20260324T153221Z
UID:10005283-1915790400-1915797600@carerfriendlydudley.org.uk
SUMMARY:Mens Group - Support for Male Carers
DESCRIPTION:Join us for a friendly and relaxed chat where you can receive support about being a male carer. \nMonthly sessions: \n3rd Monday of each month from 20th January 2025\, 12-2pm\, \nQueens Cross Centre\, Wellington Road\, Dudley\, DY1 1RB \nA group for male carers to socialise and take part in activities once a month.
URL:https://carerfriendlydudley.org.uk/event/mens-group-2/2030-09-16/
LOCATION:Queens Cross Center\, Wellington Road Dudley\, DY1 1RB
ATTACH;FMTTYPE=application/pdf:https://carerfriendlydudley.org.uk/wp-content/uploads/2024/11/Dudley-Mens-group.pdf
END:VEVENT
BEGIN:VEVENT
DTSTART;TZID=Europe/London:20301021T120000
DTEND;TZID=Europe/London:20301021T140000
DTSTAMP:20260425T133410
CREATED:20241119T161831Z
LAST-MODIFIED:20260324T153221Z
UID:10006347-1918814400-1918821600@carerfriendlydudley.org.uk
SUMMARY:Mens Group - Support for Male Carers
DESCRIPTION:Join us for a friendly and relaxed chat where you can receive support about being a male carer. \nMonthly sessions: \n3rd Monday of each month from 20th January 2025\, 12-2pm\, \nQueens Cross Centre\, Wellington Road\, Dudley\, DY1 1RB \nA group for male carers to socialise and take part in activities once a month.
URL:https://carerfriendlydudley.org.uk/event/mens-group-2/2030-10-21/
LOCATION:Queens Cross Center\, Wellington Road Dudley\, DY1 1RB
ATTACH;FMTTYPE=application/pdf:https://carerfriendlydudley.org.uk/wp-content/uploads/2024/11/Dudley-Mens-group.pdf
END:VEVENT
BEGIN:VEVENT
DTSTART;TZID=Europe/London:20301118T120000
DTEND;TZID=Europe/London:20301118T140000
DTSTAMP:20260425T133410
CREATED:20241119T161831Z
LAST-MODIFIED:20260324T153221Z
UID:10006348-1921233600-1921240800@carerfriendlydudley.org.uk
SUMMARY:Mens Group - Support for Male Carers
DESCRIPTION:Join us for a friendly and relaxed chat where you can receive support about being a male carer. \nMonthly sessions: \n3rd Monday of each month from 20th January 2025\, 12-2pm\, \nQueens Cross Centre\, Wellington Road\, Dudley\, DY1 1RB \nA group for male carers to socialise and take part in activities once a month.
URL:https://carerfriendlydudley.org.uk/event/mens-group-2/2030-11-18/
LOCATION:Queens Cross Center\, Wellington Road Dudley\, DY1 1RB
ATTACH;FMTTYPE=application/pdf:https://carerfriendlydudley.org.uk/wp-content/uploads/2024/11/Dudley-Mens-group.pdf
END:VEVENT
BEGIN:VEVENT
DTSTART;TZID=Europe/London:20301216T120000
DTEND;TZID=Europe/London:20301216T140000
DTSTAMP:20260425T133410
CREATED:20241119T161831Z
LAST-MODIFIED:20260324T153221Z
UID:10006349-1923652800-1923660000@carerfriendlydudley.org.uk
SUMMARY:Mens Group - Support for Male Carers
DESCRIPTION:Join us for a friendly and relaxed chat where you can receive support about being a male carer. \nMonthly sessions: \n3rd Monday of each month from 20th January 2025\, 12-2pm\, \nQueens Cross Centre\, Wellington Road\, Dudley\, DY1 1RB \nA group for male carers to socialise and take part in activities once a month.
URL:https://carerfriendlydudley.org.uk/event/mens-group-2/2030-12-16/
LOCATION:Queens Cross Center\, Wellington Road Dudley\, DY1 1RB
ATTACH;FMTTYPE=application/pdf:https://carerfriendlydudley.org.uk/wp-content/uploads/2024/11/Dudley-Mens-group.pdf
END:VEVENT
BEGIN:VEVENT
DTSTART;TZID=Europe/London:20310120T120000
DTEND;TZID=Europe/London:20310120T140000
DTSTAMP:20260425T133410
CREATED:20241119T161831Z
LAST-MODIFIED:20260324T153221Z
UID:10006350-1926676800-1926684000@carerfriendlydudley.org.uk
SUMMARY:Mens Group - Support for Male Carers
DESCRIPTION:Join us for a friendly and relaxed chat where you can receive support about being a male carer. \nMonthly sessions: \n3rd Monday of each month from 20th January 2025\, 12-2pm\, \nQueens Cross Centre\, Wellington Road\, Dudley\, DY1 1RB \nA group for male carers to socialise and take part in activities once a month.
URL:https://carerfriendlydudley.org.uk/event/mens-group-2/2031-01-20/
LOCATION:Queens Cross Center\, Wellington Road Dudley\, DY1 1RB
ATTACH;FMTTYPE=application/pdf:https://carerfriendlydudley.org.uk/wp-content/uploads/2024/11/Dudley-Mens-group.pdf
END:VEVENT
BEGIN:VEVENT
DTSTART;TZID=Europe/London:20310217T120000
DTEND;TZID=Europe/London:20310217T140000
DTSTAMP:20260425T133410
CREATED:20241119T161831Z
LAST-MODIFIED:20260324T153221Z
UID:10006351-1929096000-1929103200@carerfriendlydudley.org.uk
SUMMARY:Mens Group - Support for Male Carers
DESCRIPTION:Join us for a friendly and relaxed chat where you can receive support about being a male carer. \nMonthly sessions: \n3rd Monday of each month from 20th January 2025\, 12-2pm\, \nQueens Cross Centre\, Wellington Road\, Dudley\, DY1 1RB \nA group for male carers to socialise and take part in activities once a month.
URL:https://carerfriendlydudley.org.uk/event/mens-group-2/2031-02-17/
LOCATION:Queens Cross Center\, Wellington Road Dudley\, DY1 1RB
ATTACH;FMTTYPE=application/pdf:https://carerfriendlydudley.org.uk/wp-content/uploads/2024/11/Dudley-Mens-group.pdf
END:VEVENT
BEGIN:VEVENT
DTSTART;TZID=Europe/London:20310317T120000
DTEND;TZID=Europe/London:20310317T140000
DTSTAMP:20260425T133410
CREATED:20241119T161831Z
LAST-MODIFIED:20260324T153221Z
UID:10006510-1931515200-1931522400@carerfriendlydudley.org.uk
SUMMARY:Mens Group - Support for Male Carers
DESCRIPTION:Join us for a friendly and relaxed chat where you can receive support about being a male carer. \nMonthly sessions: \n3rd Monday of each month from 20th January 2025\, 12-2pm\, \nQueens Cross Centre\, Wellington Road\, Dudley\, DY1 1RB \nA group for male carers to socialise and take part in activities once a month.
URL:https://carerfriendlydudley.org.uk/event/mens-group-2/2031-03-17/
LOCATION:Queens Cross Center\, Wellington Road Dudley\, DY1 1RB
ATTACH;FMTTYPE=application/pdf:https://carerfriendlydudley.org.uk/wp-content/uploads/2024/11/Dudley-Mens-group.pdf
END:VEVENT
END:VCALENDAR