 BEGIN:VCALENDAR
VERSION:2.0
PRODID:-//Dudley Carers - ECPv6.6.4.2//NONSGML v1.0//EN
CALSCALE:GREGORIAN
METHOD:PUBLISH
X-ORIGINAL-URL:https://carerfriendlydudley.org.uk
X-WR-CALDESC:Events for Dudley Carers
REFRESH-INTERVAL;VALUE=DURATION:PT1H
X-Robots-Tag:noindex
X-PUBLISHED-TTL:PT1H
BEGIN:VTIMEZONE
TZID:Europe/London
BEGIN:DAYLIGHT
TZOFFSETFROM:+0000
TZOFFSETTO:+0100
TZNAME:BST
DTSTART:20270328T010000
END:DAYLIGHT
BEGIN:STANDARD
TZOFFSETFROM:+0100
TZOFFSETTO:+0000
TZNAME:GMT
DTSTART:20271031T010000
END:STANDARD
BEGIN:DAYLIGHT
TZOFFSETFROM:+0000
TZOFFSETTO:+0100
TZNAME:BST
DTSTART:20280326T010000
END:DAYLIGHT
BEGIN:STANDARD
TZOFFSETFROM:+0100
TZOFFSETTO:+0000
TZNAME:GMT
DTSTART:20281029T010000
END:STANDARD
BEGIN:DAYLIGHT
TZOFFSETFROM:+0000
TZOFFSETTO:+0100
TZNAME:BST
DTSTART:20290325T010000
END:DAYLIGHT
BEGIN:STANDARD
TZOFFSETFROM:+0100
TZOFFSETTO:+0000
TZNAME:GMT
DTSTART:20291028T010000
END:STANDARD
END:VTIMEZONE
BEGIN:VEVENT
DTSTART;TZID=Europe/London:20270311T130000
DTEND;TZID=Europe/London:20270311T150000
DTSTAMP:20260422T143405
CREATED:20241030T123027Z
LAST-MODIFIED:20250731T124949Z
UID:10004221-1804770000-1804777200@carerfriendlydudley.org.uk
SUMMARY:Information Sessions at the Brierley Hill Library
DESCRIPTION:An advisor is available once a month to give advice and signpost carers at drop in sessions\, third Thursday of each month. Individual 30min appointments can be booked in advance through Calendly \n  \nBrierley Hill Library 1-3pm \n  \nhttps://calendly.com/carerfriendlydudley-forwardcarers
URL:https://carerfriendlydudley.org.uk/event/information-sessions-at-the-library-2-2/2027-03-11/
LOCATION:Brierley Hill Library\, 122 High St\, Brierley Hill\, DY5 3ET
ATTACH;FMTTYPE=image/png:https://carerfriendlydudley.org.uk/wp-content/uploads/2024/10/Screenshot-2024-10-16-at-13.43.58-e1729084365888.png
END:VEVENT
BEGIN:VEVENT
DTSTART;TZID=Europe/London:20270408T130000
DTEND;TZID=Europe/London:20270408T150000
DTSTAMP:20260422T143405
CREATED:20241030T123027Z
LAST-MODIFIED:20250731T124949Z
UID:10004222-1807189200-1807196400@carerfriendlydudley.org.uk
SUMMARY:Information Sessions at the Brierley Hill Library
DESCRIPTION:An advisor is available once a month to give advice and signpost carers at drop in sessions\, third Thursday of each month. Individual 30min appointments can be booked in advance through Calendly \n  \nBrierley Hill Library 1-3pm \n  \nhttps://calendly.com/carerfriendlydudley-forwardcarers
URL:https://carerfriendlydudley.org.uk/event/information-sessions-at-the-library-2-2/2027-04-08/
LOCATION:Brierley Hill Library\, 122 High St\, Brierley Hill\, DY5 3ET
ATTACH;FMTTYPE=image/png:https://carerfriendlydudley.org.uk/wp-content/uploads/2024/10/Screenshot-2024-10-16-at-13.43.58-e1729084365888.png
END:VEVENT
BEGIN:VEVENT
DTSTART;TZID=Europe/London:20270513T130000
DTEND;TZID=Europe/London:20270513T150000
DTSTAMP:20260422T143405
CREATED:20241030T123027Z
LAST-MODIFIED:20250731T124949Z
UID:10004223-1810213200-1810220400@carerfriendlydudley.org.uk
SUMMARY:Information Sessions at the Brierley Hill Library
DESCRIPTION:An advisor is available once a month to give advice and signpost carers at drop in sessions\, third Thursday of each month. Individual 30min appointments can be booked in advance through Calendly \n  \nBrierley Hill Library 1-3pm \n  \nhttps://calendly.com/carerfriendlydudley-forwardcarers
URL:https://carerfriendlydudley.org.uk/event/information-sessions-at-the-library-2-2/2027-05-13/
LOCATION:Brierley Hill Library\, 122 High St\, Brierley Hill\, DY5 3ET
ATTACH;FMTTYPE=image/png:https://carerfriendlydudley.org.uk/wp-content/uploads/2024/10/Screenshot-2024-10-16-at-13.43.58-e1729084365888.png
END:VEVENT
BEGIN:VEVENT
DTSTART;TZID=Europe/London:20270610T130000
DTEND;TZID=Europe/London:20270610T150000
DTSTAMP:20260422T143405
CREATED:20241030T123027Z
LAST-MODIFIED:20250731T124949Z
UID:10004224-1812632400-1812639600@carerfriendlydudley.org.uk
SUMMARY:Information Sessions at the Brierley Hill Library
DESCRIPTION:An advisor is available once a month to give advice and signpost carers at drop in sessions\, third Thursday of each month. Individual 30min appointments can be booked in advance through Calendly \n  \nBrierley Hill Library 1-3pm \n  \nhttps://calendly.com/carerfriendlydudley-forwardcarers
URL:https://carerfriendlydudley.org.uk/event/information-sessions-at-the-library-2-2/2027-06-10/
LOCATION:Brierley Hill Library\, 122 High St\, Brierley Hill\, DY5 3ET
ATTACH;FMTTYPE=image/png:https://carerfriendlydudley.org.uk/wp-content/uploads/2024/10/Screenshot-2024-10-16-at-13.43.58-e1729084365888.png
END:VEVENT
BEGIN:VEVENT
DTSTART;TZID=Europe/London:20270708T130000
DTEND;TZID=Europe/London:20270708T150000
DTSTAMP:20260422T143405
CREATED:20241030T123027Z
LAST-MODIFIED:20250731T124949Z
UID:10004225-1815051600-1815058800@carerfriendlydudley.org.uk
SUMMARY:Information Sessions at the Brierley Hill Library
DESCRIPTION:An advisor is available once a month to give advice and signpost carers at drop in sessions\, third Thursday of each month. Individual 30min appointments can be booked in advance through Calendly \n  \nBrierley Hill Library 1-3pm \n  \nhttps://calendly.com/carerfriendlydudley-forwardcarers
URL:https://carerfriendlydudley.org.uk/event/information-sessions-at-the-library-2-2/2027-07-08/
LOCATION:Brierley Hill Library\, 122 High St\, Brierley Hill\, DY5 3ET
ATTACH;FMTTYPE=image/png:https://carerfriendlydudley.org.uk/wp-content/uploads/2024/10/Screenshot-2024-10-16-at-13.43.58-e1729084365888.png
END:VEVENT
BEGIN:VEVENT
DTSTART;TZID=Europe/London:20270812T130000
DTEND;TZID=Europe/London:20270812T150000
DTSTAMP:20260422T143405
CREATED:20241030T123027Z
LAST-MODIFIED:20250731T124949Z
UID:10004226-1818075600-1818082800@carerfriendlydudley.org.uk
SUMMARY:Information Sessions at the Brierley Hill Library
DESCRIPTION:An advisor is available once a month to give advice and signpost carers at drop in sessions\, third Thursday of each month. Individual 30min appointments can be booked in advance through Calendly \n  \nBrierley Hill Library 1-3pm \n  \nhttps://calendly.com/carerfriendlydudley-forwardcarers
URL:https://carerfriendlydudley.org.uk/event/information-sessions-at-the-library-2-2/2027-08-12/
LOCATION:Brierley Hill Library\, 122 High St\, Brierley Hill\, DY5 3ET
ATTACH;FMTTYPE=image/png:https://carerfriendlydudley.org.uk/wp-content/uploads/2024/10/Screenshot-2024-10-16-at-13.43.58-e1729084365888.png
END:VEVENT
BEGIN:VEVENT
DTSTART;TZID=Europe/London:20270909T130000
DTEND;TZID=Europe/London:20270909T150000
DTSTAMP:20260422T143405
CREATED:20241030T123027Z
LAST-MODIFIED:20250731T124949Z
UID:10004227-1820494800-1820502000@carerfriendlydudley.org.uk
SUMMARY:Information Sessions at the Brierley Hill Library
DESCRIPTION:An advisor is available once a month to give advice and signpost carers at drop in sessions\, third Thursday of each month. Individual 30min appointments can be booked in advance through Calendly \n  \nBrierley Hill Library 1-3pm \n  \nhttps://calendly.com/carerfriendlydudley-forwardcarers
URL:https://carerfriendlydudley.org.uk/event/information-sessions-at-the-library-2-2/2027-09-09/
LOCATION:Brierley Hill Library\, 122 High St\, Brierley Hill\, DY5 3ET
ATTACH;FMTTYPE=image/png:https://carerfriendlydudley.org.uk/wp-content/uploads/2024/10/Screenshot-2024-10-16-at-13.43.58-e1729084365888.png
END:VEVENT
BEGIN:VEVENT
DTSTART;TZID=Europe/London:20271014T130000
DTEND;TZID=Europe/London:20271014T150000
DTSTAMP:20260422T143405
CREATED:20241030T123027Z
LAST-MODIFIED:20250731T124949Z
UID:10004228-1823518800-1823526000@carerfriendlydudley.org.uk
SUMMARY:Information Sessions at the Brierley Hill Library
DESCRIPTION:An advisor is available once a month to give advice and signpost carers at drop in sessions\, third Thursday of each month. Individual 30min appointments can be booked in advance through Calendly \n  \nBrierley Hill Library 1-3pm \n  \nhttps://calendly.com/carerfriendlydudley-forwardcarers
URL:https://carerfriendlydudley.org.uk/event/information-sessions-at-the-library-2-2/2027-10-14/
LOCATION:Brierley Hill Library\, 122 High St\, Brierley Hill\, DY5 3ET
ATTACH;FMTTYPE=image/png:https://carerfriendlydudley.org.uk/wp-content/uploads/2024/10/Screenshot-2024-10-16-at-13.43.58-e1729084365888.png
END:VEVENT
BEGIN:VEVENT
DTSTART;TZID=Europe/London:20271111T130000
DTEND;TZID=Europe/London:20271111T150000
DTSTAMP:20260422T143405
CREATED:20241030T123027Z
LAST-MODIFIED:20250731T124949Z
UID:10004229-1825938000-1825945200@carerfriendlydudley.org.uk
SUMMARY:Information Sessions at the Brierley Hill Library
DESCRIPTION:An advisor is available once a month to give advice and signpost carers at drop in sessions\, third Thursday of each month. Individual 30min appointments can be booked in advance through Calendly \n  \nBrierley Hill Library 1-3pm \n  \nhttps://calendly.com/carerfriendlydudley-forwardcarers
URL:https://carerfriendlydudley.org.uk/event/information-sessions-at-the-library-2-2/2027-11-11/
LOCATION:Brierley Hill Library\, 122 High St\, Brierley Hill\, DY5 3ET
ATTACH;FMTTYPE=image/png:https://carerfriendlydudley.org.uk/wp-content/uploads/2024/10/Screenshot-2024-10-16-at-13.43.58-e1729084365888.png
END:VEVENT
BEGIN:VEVENT
DTSTART;TZID=Europe/London:20271209T130000
DTEND;TZID=Europe/London:20271209T150000
DTSTAMP:20260422T143405
CREATED:20241030T123027Z
LAST-MODIFIED:20250731T124949Z
UID:10004230-1828357200-1828364400@carerfriendlydudley.org.uk
SUMMARY:Information Sessions at the Brierley Hill Library
DESCRIPTION:An advisor is available once a month to give advice and signpost carers at drop in sessions\, third Thursday of each month. Individual 30min appointments can be booked in advance through Calendly \n  \nBrierley Hill Library 1-3pm \n  \nhttps://calendly.com/carerfriendlydudley-forwardcarers
URL:https://carerfriendlydudley.org.uk/event/information-sessions-at-the-library-2-2/2027-12-09/
LOCATION:Brierley Hill Library\, 122 High St\, Brierley Hill\, DY5 3ET
ATTACH;FMTTYPE=image/png:https://carerfriendlydudley.org.uk/wp-content/uploads/2024/10/Screenshot-2024-10-16-at-13.43.58-e1729084365888.png
END:VEVENT
BEGIN:VEVENT
DTSTART;TZID=Europe/London:20280113T130000
DTEND;TZID=Europe/London:20280113T150000
DTSTAMP:20260422T143405
CREATED:20241030T123027Z
LAST-MODIFIED:20250731T124949Z
UID:10004231-1831381200-1831388400@carerfriendlydudley.org.uk
SUMMARY:Information Sessions at the Brierley Hill Library
DESCRIPTION:An advisor is available once a month to give advice and signpost carers at drop in sessions\, third Thursday of each month. Individual 30min appointments can be booked in advance through Calendly \n  \nBrierley Hill Library 1-3pm \n  \nhttps://calendly.com/carerfriendlydudley-forwardcarers
URL:https://carerfriendlydudley.org.uk/event/information-sessions-at-the-library-2-2/2028-01-13/
LOCATION:Brierley Hill Library\, 122 High St\, Brierley Hill\, DY5 3ET
ATTACH;FMTTYPE=image/png:https://carerfriendlydudley.org.uk/wp-content/uploads/2024/10/Screenshot-2024-10-16-at-13.43.58-e1729084365888.png
END:VEVENT
BEGIN:VEVENT
DTSTART;TZID=Europe/London:20280210T130000
DTEND;TZID=Europe/London:20280210T150000
DTSTAMP:20260422T143405
CREATED:20241030T123027Z
LAST-MODIFIED:20250731T124949Z
UID:10004232-1833800400-1833807600@carerfriendlydudley.org.uk
SUMMARY:Information Sessions at the Brierley Hill Library
DESCRIPTION:An advisor is available once a month to give advice and signpost carers at drop in sessions\, third Thursday of each month. Individual 30min appointments can be booked in advance through Calendly \n  \nBrierley Hill Library 1-3pm \n  \nhttps://calendly.com/carerfriendlydudley-forwardcarers
URL:https://carerfriendlydudley.org.uk/event/information-sessions-at-the-library-2-2/2028-02-10/
LOCATION:Brierley Hill Library\, 122 High St\, Brierley Hill\, DY5 3ET
ATTACH;FMTTYPE=image/png:https://carerfriendlydudley.org.uk/wp-content/uploads/2024/10/Screenshot-2024-10-16-at-13.43.58-e1729084365888.png
END:VEVENT
BEGIN:VEVENT
DTSTART;TZID=Europe/London:20280309T130000
DTEND;TZID=Europe/London:20280309T150000
DTSTAMP:20260422T143405
CREATED:20241030T123027Z
LAST-MODIFIED:20250731T124949Z
UID:10004233-1836219600-1836226800@carerfriendlydudley.org.uk
SUMMARY:Information Sessions at the Brierley Hill Library
DESCRIPTION:An advisor is available once a month to give advice and signpost carers at drop in sessions\, third Thursday of each month. Individual 30min appointments can be booked in advance through Calendly \n  \nBrierley Hill Library 1-3pm \n  \nhttps://calendly.com/carerfriendlydudley-forwardcarers
URL:https://carerfriendlydudley.org.uk/event/information-sessions-at-the-library-2-2/2028-03-09/
LOCATION:Brierley Hill Library\, 122 High St\, Brierley Hill\, DY5 3ET
ATTACH;FMTTYPE=image/png:https://carerfriendlydudley.org.uk/wp-content/uploads/2024/10/Screenshot-2024-10-16-at-13.43.58-e1729084365888.png
END:VEVENT
BEGIN:VEVENT
DTSTART;TZID=Europe/London:20280413T130000
DTEND;TZID=Europe/London:20280413T150000
DTSTAMP:20260422T143405
CREATED:20241030T123027Z
LAST-MODIFIED:20250731T124949Z
UID:10004234-1839243600-1839250800@carerfriendlydudley.org.uk
SUMMARY:Information Sessions at the Brierley Hill Library
DESCRIPTION:An advisor is available once a month to give advice and signpost carers at drop in sessions\, third Thursday of each month. Individual 30min appointments can be booked in advance through Calendly \n  \nBrierley Hill Library 1-3pm \n  \nhttps://calendly.com/carerfriendlydudley-forwardcarers
URL:https://carerfriendlydudley.org.uk/event/information-sessions-at-the-library-2-2/2028-04-13/
LOCATION:Brierley Hill Library\, 122 High St\, Brierley Hill\, DY5 3ET
ATTACH;FMTTYPE=image/png:https://carerfriendlydudley.org.uk/wp-content/uploads/2024/10/Screenshot-2024-10-16-at-13.43.58-e1729084365888.png
END:VEVENT
BEGIN:VEVENT
DTSTART;TZID=Europe/London:20280511T130000
DTEND;TZID=Europe/London:20280511T150000
DTSTAMP:20260422T143405
CREATED:20241030T123027Z
LAST-MODIFIED:20250731T124949Z
UID:10004235-1841662800-1841670000@carerfriendlydudley.org.uk
SUMMARY:Information Sessions at the Brierley Hill Library
DESCRIPTION:An advisor is available once a month to give advice and signpost carers at drop in sessions\, third Thursday of each month. Individual 30min appointments can be booked in advance through Calendly \n  \nBrierley Hill Library 1-3pm \n  \nhttps://calendly.com/carerfriendlydudley-forwardcarers
URL:https://carerfriendlydudley.org.uk/event/information-sessions-at-the-library-2-2/2028-05-11/
LOCATION:Brierley Hill Library\, 122 High St\, Brierley Hill\, DY5 3ET
ATTACH;FMTTYPE=image/png:https://carerfriendlydudley.org.uk/wp-content/uploads/2024/10/Screenshot-2024-10-16-at-13.43.58-e1729084365888.png
END:VEVENT
BEGIN:VEVENT
DTSTART;TZID=Europe/London:20280608T130000
DTEND;TZID=Europe/London:20280608T150000
DTSTAMP:20260422T143405
CREATED:20241030T123027Z
LAST-MODIFIED:20250731T124949Z
UID:10004236-1844082000-1844089200@carerfriendlydudley.org.uk
SUMMARY:Information Sessions at the Brierley Hill Library
DESCRIPTION:An advisor is available once a month to give advice and signpost carers at drop in sessions\, third Thursday of each month. Individual 30min appointments can be booked in advance through Calendly \n  \nBrierley Hill Library 1-3pm \n  \nhttps://calendly.com/carerfriendlydudley-forwardcarers
URL:https://carerfriendlydudley.org.uk/event/information-sessions-at-the-library-2-2/2028-06-08/
LOCATION:Brierley Hill Library\, 122 High St\, Brierley Hill\, DY5 3ET
ATTACH;FMTTYPE=image/png:https://carerfriendlydudley.org.uk/wp-content/uploads/2024/10/Screenshot-2024-10-16-at-13.43.58-e1729084365888.png
END:VEVENT
BEGIN:VEVENT
DTSTART;TZID=Europe/London:20280713T130000
DTEND;TZID=Europe/London:20280713T150000
DTSTAMP:20260422T143405
CREATED:20241030T123027Z
LAST-MODIFIED:20250731T124949Z
UID:10004237-1847106000-1847113200@carerfriendlydudley.org.uk
SUMMARY:Information Sessions at the Brierley Hill Library
DESCRIPTION:An advisor is available once a month to give advice and signpost carers at drop in sessions\, third Thursday of each month. Individual 30min appointments can be booked in advance through Calendly \n  \nBrierley Hill Library 1-3pm \n  \nhttps://calendly.com/carerfriendlydudley-forwardcarers
URL:https://carerfriendlydudley.org.uk/event/information-sessions-at-the-library-2-2/2028-07-13/
LOCATION:Brierley Hill Library\, 122 High St\, Brierley Hill\, DY5 3ET
ATTACH;FMTTYPE=image/png:https://carerfriendlydudley.org.uk/wp-content/uploads/2024/10/Screenshot-2024-10-16-at-13.43.58-e1729084365888.png
END:VEVENT
BEGIN:VEVENT
DTSTART;TZID=Europe/London:20280810T130000
DTEND;TZID=Europe/London:20280810T150000
DTSTAMP:20260422T143405
CREATED:20241030T123027Z
LAST-MODIFIED:20250731T124949Z
UID:10004238-1849525200-1849532400@carerfriendlydudley.org.uk
SUMMARY:Information Sessions at the Brierley Hill Library
DESCRIPTION:An advisor is available once a month to give advice and signpost carers at drop in sessions\, third Thursday of each month. Individual 30min appointments can be booked in advance through Calendly \n  \nBrierley Hill Library 1-3pm \n  \nhttps://calendly.com/carerfriendlydudley-forwardcarers
URL:https://carerfriendlydudley.org.uk/event/information-sessions-at-the-library-2-2/2028-08-10/
LOCATION:Brierley Hill Library\, 122 High St\, Brierley Hill\, DY5 3ET
ATTACH;FMTTYPE=image/png:https://carerfriendlydudley.org.uk/wp-content/uploads/2024/10/Screenshot-2024-10-16-at-13.43.58-e1729084365888.png
END:VEVENT
BEGIN:VEVENT
DTSTART;TZID=Europe/London:20280914T130000
DTEND;TZID=Europe/London:20280914T150000
DTSTAMP:20260422T143405
CREATED:20241030T123027Z
LAST-MODIFIED:20250731T124949Z
UID:10004239-1852549200-1852556400@carerfriendlydudley.org.uk
SUMMARY:Information Sessions at the Brierley Hill Library
DESCRIPTION:An advisor is available once a month to give advice and signpost carers at drop in sessions\, third Thursday of each month. Individual 30min appointments can be booked in advance through Calendly \n  \nBrierley Hill Library 1-3pm \n  \nhttps://calendly.com/carerfriendlydudley-forwardcarers
URL:https://carerfriendlydudley.org.uk/event/information-sessions-at-the-library-2-2/2028-09-14/
LOCATION:Brierley Hill Library\, 122 High St\, Brierley Hill\, DY5 3ET
ATTACH;FMTTYPE=image/png:https://carerfriendlydudley.org.uk/wp-content/uploads/2024/10/Screenshot-2024-10-16-at-13.43.58-e1729084365888.png
END:VEVENT
BEGIN:VEVENT
DTSTART;TZID=Europe/London:20281012T130000
DTEND;TZID=Europe/London:20281012T150000
DTSTAMP:20260422T143405
CREATED:20241030T123027Z
LAST-MODIFIED:20250731T124949Z
UID:10004240-1854968400-1854975600@carerfriendlydudley.org.uk
SUMMARY:Information Sessions at the Brierley Hill Library
DESCRIPTION:An advisor is available once a month to give advice and signpost carers at drop in sessions\, third Thursday of each month. Individual 30min appointments can be booked in advance through Calendly \n  \nBrierley Hill Library 1-3pm \n  \nhttps://calendly.com/carerfriendlydudley-forwardcarers
URL:https://carerfriendlydudley.org.uk/event/information-sessions-at-the-library-2-2/2028-10-12/
LOCATION:Brierley Hill Library\, 122 High St\, Brierley Hill\, DY5 3ET
ATTACH;FMTTYPE=image/png:https://carerfriendlydudley.org.uk/wp-content/uploads/2024/10/Screenshot-2024-10-16-at-13.43.58-e1729084365888.png
END:VEVENT
BEGIN:VEVENT
DTSTART;TZID=Europe/London:20281109T130000
DTEND;TZID=Europe/London:20281109T150000
DTSTAMP:20260422T143405
CREATED:20241030T123027Z
LAST-MODIFIED:20250731T124949Z
UID:10004241-1857387600-1857394800@carerfriendlydudley.org.uk
SUMMARY:Information Sessions at the Brierley Hill Library
DESCRIPTION:An advisor is available once a month to give advice and signpost carers at drop in sessions\, third Thursday of each month. Individual 30min appointments can be booked in advance through Calendly \n  \nBrierley Hill Library 1-3pm \n  \nhttps://calendly.com/carerfriendlydudley-forwardcarers
URL:https://carerfriendlydudley.org.uk/event/information-sessions-at-the-library-2-2/2028-11-09/
LOCATION:Brierley Hill Library\, 122 High St\, Brierley Hill\, DY5 3ET
ATTACH;FMTTYPE=image/png:https://carerfriendlydudley.org.uk/wp-content/uploads/2024/10/Screenshot-2024-10-16-at-13.43.58-e1729084365888.png
END:VEVENT
BEGIN:VEVENT
DTSTART;TZID=Europe/London:20281214T130000
DTEND;TZID=Europe/London:20281214T150000
DTSTAMP:20260422T143405
CREATED:20241030T123027Z
LAST-MODIFIED:20250731T124949Z
UID:10004242-1860411600-1860418800@carerfriendlydudley.org.uk
SUMMARY:Information Sessions at the Brierley Hill Library
DESCRIPTION:An advisor is available once a month to give advice and signpost carers at drop in sessions\, third Thursday of each month. Individual 30min appointments can be booked in advance through Calendly \n  \nBrierley Hill Library 1-3pm \n  \nhttps://calendly.com/carerfriendlydudley-forwardcarers
URL:https://carerfriendlydudley.org.uk/event/information-sessions-at-the-library-2-2/2028-12-14/
LOCATION:Brierley Hill Library\, 122 High St\, Brierley Hill\, DY5 3ET
ATTACH;FMTTYPE=image/png:https://carerfriendlydudley.org.uk/wp-content/uploads/2024/10/Screenshot-2024-10-16-at-13.43.58-e1729084365888.png
END:VEVENT
BEGIN:VEVENT
DTSTART;TZID=Europe/London:20290111T130000
DTEND;TZID=Europe/London:20290111T150000
DTSTAMP:20260422T143405
CREATED:20241030T123027Z
LAST-MODIFIED:20250731T124949Z
UID:10004243-1862830800-1862838000@carerfriendlydudley.org.uk
SUMMARY:Information Sessions at the Brierley Hill Library
DESCRIPTION:An advisor is available once a month to give advice and signpost carers at drop in sessions\, third Thursday of each month. Individual 30min appointments can be booked in advance through Calendly \n  \nBrierley Hill Library 1-3pm \n  \nhttps://calendly.com/carerfriendlydudley-forwardcarers
URL:https://carerfriendlydudley.org.uk/event/information-sessions-at-the-library-2-2/2029-01-11/
LOCATION:Brierley Hill Library\, 122 High St\, Brierley Hill\, DY5 3ET
ATTACH;FMTTYPE=image/png:https://carerfriendlydudley.org.uk/wp-content/uploads/2024/10/Screenshot-2024-10-16-at-13.43.58-e1729084365888.png
END:VEVENT
BEGIN:VEVENT
DTSTART;TZID=Europe/London:20290208T130000
DTEND;TZID=Europe/London:20290208T150000
DTSTAMP:20260422T143405
CREATED:20241030T123027Z
LAST-MODIFIED:20250731T124949Z
UID:10004244-1865250000-1865257200@carerfriendlydudley.org.uk
SUMMARY:Information Sessions at the Brierley Hill Library
DESCRIPTION:An advisor is available once a month to give advice and signpost carers at drop in sessions\, third Thursday of each month. Individual 30min appointments can be booked in advance through Calendly \n  \nBrierley Hill Library 1-3pm \n  \nhttps://calendly.com/carerfriendlydudley-forwardcarers
URL:https://carerfriendlydudley.org.uk/event/information-sessions-at-the-library-2-2/2029-02-08/
LOCATION:Brierley Hill Library\, 122 High St\, Brierley Hill\, DY5 3ET
ATTACH;FMTTYPE=image/png:https://carerfriendlydudley.org.uk/wp-content/uploads/2024/10/Screenshot-2024-10-16-at-13.43.58-e1729084365888.png
END:VEVENT
BEGIN:VEVENT
DTSTART;TZID=Europe/London:20290308T130000
DTEND;TZID=Europe/London:20290308T150000
DTSTAMP:20260422T143405
CREATED:20241030T123027Z
LAST-MODIFIED:20250731T124949Z
UID:10004245-1867669200-1867676400@carerfriendlydudley.org.uk
SUMMARY:Information Sessions at the Brierley Hill Library
DESCRIPTION:An advisor is available once a month to give advice and signpost carers at drop in sessions\, third Thursday of each month. Individual 30min appointments can be booked in advance through Calendly \n  \nBrierley Hill Library 1-3pm \n  \nhttps://calendly.com/carerfriendlydudley-forwardcarers
URL:https://carerfriendlydudley.org.uk/event/information-sessions-at-the-library-2-2/2029-03-08/
LOCATION:Brierley Hill Library\, 122 High St\, Brierley Hill\, DY5 3ET
ATTACH;FMTTYPE=image/png:https://carerfriendlydudley.org.uk/wp-content/uploads/2024/10/Screenshot-2024-10-16-at-13.43.58-e1729084365888.png
END:VEVENT
BEGIN:VEVENT
DTSTART;TZID=Europe/London:20290412T130000
DTEND;TZID=Europe/London:20290412T150000
DTSTAMP:20260422T143405
CREATED:20241030T123027Z
LAST-MODIFIED:20250731T124949Z
UID:10004246-1870693200-1870700400@carerfriendlydudley.org.uk
SUMMARY:Information Sessions at the Brierley Hill Library
DESCRIPTION:An advisor is available once a month to give advice and signpost carers at drop in sessions\, third Thursday of each month. Individual 30min appointments can be booked in advance through Calendly \n  \nBrierley Hill Library 1-3pm \n  \nhttps://calendly.com/carerfriendlydudley-forwardcarers
URL:https://carerfriendlydudley.org.uk/event/information-sessions-at-the-library-2-2/2029-04-12/
LOCATION:Brierley Hill Library\, 122 High St\, Brierley Hill\, DY5 3ET
ATTACH;FMTTYPE=image/png:https://carerfriendlydudley.org.uk/wp-content/uploads/2024/10/Screenshot-2024-10-16-at-13.43.58-e1729084365888.png
END:VEVENT
BEGIN:VEVENT
DTSTART;TZID=Europe/London:20290510T130000
DTEND;TZID=Europe/London:20290510T150000
DTSTAMP:20260422T143405
CREATED:20241030T123027Z
LAST-MODIFIED:20250731T124949Z
UID:10004247-1873112400-1873119600@carerfriendlydudley.org.uk
SUMMARY:Information Sessions at the Brierley Hill Library
DESCRIPTION:An advisor is available once a month to give advice and signpost carers at drop in sessions\, third Thursday of each month. Individual 30min appointments can be booked in advance through Calendly \n  \nBrierley Hill Library 1-3pm \n  \nhttps://calendly.com/carerfriendlydudley-forwardcarers
URL:https://carerfriendlydudley.org.uk/event/information-sessions-at-the-library-2-2/2029-05-10/
LOCATION:Brierley Hill Library\, 122 High St\, Brierley Hill\, DY5 3ET
ATTACH;FMTTYPE=image/png:https://carerfriendlydudley.org.uk/wp-content/uploads/2024/10/Screenshot-2024-10-16-at-13.43.58-e1729084365888.png
END:VEVENT
BEGIN:VEVENT
DTSTART;TZID=Europe/London:20290614T130000
DTEND;TZID=Europe/London:20290614T150000
DTSTAMP:20260422T143405
CREATED:20241030T123027Z
LAST-MODIFIED:20250731T124949Z
UID:10004248-1876136400-1876143600@carerfriendlydudley.org.uk
SUMMARY:Information Sessions at the Brierley Hill Library
DESCRIPTION:An advisor is available once a month to give advice and signpost carers at drop in sessions\, third Thursday of each month. Individual 30min appointments can be booked in advance through Calendly \n  \nBrierley Hill Library 1-3pm \n  \nhttps://calendly.com/carerfriendlydudley-forwardcarers
URL:https://carerfriendlydudley.org.uk/event/information-sessions-at-the-library-2-2/2029-06-14/
LOCATION:Brierley Hill Library\, 122 High St\, Brierley Hill\, DY5 3ET
ATTACH;FMTTYPE=image/png:https://carerfriendlydudley.org.uk/wp-content/uploads/2024/10/Screenshot-2024-10-16-at-13.43.58-e1729084365888.png
END:VEVENT
BEGIN:VEVENT
DTSTART;TZID=Europe/London:20290712T130000
DTEND;TZID=Europe/London:20290712T150000
DTSTAMP:20260422T143405
CREATED:20241030T123027Z
LAST-MODIFIED:20250731T124949Z
UID:10004249-1878555600-1878562800@carerfriendlydudley.org.uk
SUMMARY:Information Sessions at the Brierley Hill Library
DESCRIPTION:An advisor is available once a month to give advice and signpost carers at drop in sessions\, third Thursday of each month. Individual 30min appointments can be booked in advance through Calendly \n  \nBrierley Hill Library 1-3pm \n  \nhttps://calendly.com/carerfriendlydudley-forwardcarers
URL:https://carerfriendlydudley.org.uk/event/information-sessions-at-the-library-2-2/2029-07-12/
LOCATION:Brierley Hill Library\, 122 High St\, Brierley Hill\, DY5 3ET
ATTACH;FMTTYPE=image/png:https://carerfriendlydudley.org.uk/wp-content/uploads/2024/10/Screenshot-2024-10-16-at-13.43.58-e1729084365888.png
END:VEVENT
BEGIN:VEVENT
DTSTART;TZID=Europe/London:20290809T130000
DTEND;TZID=Europe/London:20290809T150000
DTSTAMP:20260422T143405
CREATED:20241030T123027Z
LAST-MODIFIED:20250731T124949Z
UID:10004250-1880974800-1880982000@carerfriendlydudley.org.uk
SUMMARY:Information Sessions at the Brierley Hill Library
DESCRIPTION:An advisor is available once a month to give advice and signpost carers at drop in sessions\, third Thursday of each month. Individual 30min appointments can be booked in advance through Calendly \n  \nBrierley Hill Library 1-3pm \n  \nhttps://calendly.com/carerfriendlydudley-forwardcarers
URL:https://carerfriendlydudley.org.uk/event/information-sessions-at-the-library-2-2/2029-08-09/
LOCATION:Brierley Hill Library\, 122 High St\, Brierley Hill\, DY5 3ET
ATTACH;FMTTYPE=image/png:https://carerfriendlydudley.org.uk/wp-content/uploads/2024/10/Screenshot-2024-10-16-at-13.43.58-e1729084365888.png
END:VEVENT
END:VCALENDAR