 BEGIN:VCALENDAR
VERSION:2.0
PRODID:-//Dudley Carers - ECPv6.6.4.2//NONSGML v1.0//EN
CALSCALE:GREGORIAN
METHOD:PUBLISH
X-ORIGINAL-URL:https://carerfriendlydudley.org.uk
X-WR-CALDESC:Events for Dudley Carers
REFRESH-INTERVAL;VALUE=DURATION:PT1H
X-Robots-Tag:noindex
X-PUBLISHED-TTL:PT1H
BEGIN:VTIMEZONE
TZID:Europe/London
BEGIN:DAYLIGHT
TZOFFSETFROM:+0000
TZOFFSETTO:+0100
TZNAME:BST
DTSTART:20260329T010000
END:DAYLIGHT
BEGIN:STANDARD
TZOFFSETFROM:+0100
TZOFFSETTO:+0000
TZNAME:GMT
DTSTART:20261025T010000
END:STANDARD
BEGIN:DAYLIGHT
TZOFFSETFROM:+0000
TZOFFSETTO:+0100
TZNAME:BST
DTSTART:20270328T010000
END:DAYLIGHT
BEGIN:STANDARD
TZOFFSETFROM:+0100
TZOFFSETTO:+0000
TZNAME:GMT
DTSTART:20271031T010000
END:STANDARD
END:VTIMEZONE
BEGIN:VEVENT
DTSTART;TZID=Europe/London:20260501T103000
DTEND;TZID=Europe/London:20260501T120000
DTSTAMP:20260424T133942
CREATED:20260415T115025Z
LAST-MODIFIED:20260415T115025Z
UID:10006839-1777631400-1777636800@carerfriendlydudley.org.uk
SUMMARY:Carer's Café Social
DESCRIPTION:Join our relaxed social group at the Royal Air Forces Museum. This informal social group will encourage you to take the lead and chat amongst other carers. Share experiences and socialise or simply tag along and listen! \nCarer’s Café Social is usually on the first Friday of each month at RAF Museum Midlands from 10.30am – 12.00pm. \nIf you would like to know more\, please email carers.cafe@rafmuseum.org
URL:https://carerfriendlydudley.org.uk/event/carers-cafe-social/2026-05-01/
ATTACH;FMTTYPE=image/png:https://carerfriendlydudley.org.uk/wp-content/uploads/2026/04/Screenshot-2026-04-15-124620.png
END:VEVENT
BEGIN:VEVENT
DTSTART;TZID=Europe/London:20260605T103000
DTEND;TZID=Europe/London:20260605T120000
DTSTAMP:20260424T133942
CREATED:20260415T115025Z
LAST-MODIFIED:20260415T115025Z
UID:10006840-1780655400-1780660800@carerfriendlydudley.org.uk
SUMMARY:Carer's Café Social
DESCRIPTION:Join our relaxed social group at the Royal Air Forces Museum. This informal social group will encourage you to take the lead and chat amongst other carers. Share experiences and socialise or simply tag along and listen! \nCarer’s Café Social is usually on the first Friday of each month at RAF Museum Midlands from 10.30am – 12.00pm. \nIf you would like to know more\, please email carers.cafe@rafmuseum.org
URL:https://carerfriendlydudley.org.uk/event/carers-cafe-social/2026-06-05/
ATTACH;FMTTYPE=image/png:https://carerfriendlydudley.org.uk/wp-content/uploads/2026/04/Screenshot-2026-04-15-124620.png
END:VEVENT
BEGIN:VEVENT
DTSTART;TZID=Europe/London:20260703T103000
DTEND;TZID=Europe/London:20260703T120000
DTSTAMP:20260424T133942
CREATED:20260415T115025Z
LAST-MODIFIED:20260415T115025Z
UID:10006841-1783074600-1783080000@carerfriendlydudley.org.uk
SUMMARY:Carer's Café Social
DESCRIPTION:Join our relaxed social group at the Royal Air Forces Museum. This informal social group will encourage you to take the lead and chat amongst other carers. Share experiences and socialise or simply tag along and listen! \nCarer’s Café Social is usually on the first Friday of each month at RAF Museum Midlands from 10.30am – 12.00pm. \nIf you would like to know more\, please email carers.cafe@rafmuseum.org
URL:https://carerfriendlydudley.org.uk/event/carers-cafe-social/2026-07-03/
ATTACH;FMTTYPE=image/png:https://carerfriendlydudley.org.uk/wp-content/uploads/2026/04/Screenshot-2026-04-15-124620.png
END:VEVENT
BEGIN:VEVENT
DTSTART;TZID=Europe/London:20260807T103000
DTEND;TZID=Europe/London:20260807T120000
DTSTAMP:20260424T133942
CREATED:20260415T115025Z
LAST-MODIFIED:20260415T115025Z
UID:10006842-1786098600-1786104000@carerfriendlydudley.org.uk
SUMMARY:Carer's Café Social
DESCRIPTION:Join our relaxed social group at the Royal Air Forces Museum. This informal social group will encourage you to take the lead and chat amongst other carers. Share experiences and socialise or simply tag along and listen! \nCarer’s Café Social is usually on the first Friday of each month at RAF Museum Midlands from 10.30am – 12.00pm. \nIf you would like to know more\, please email carers.cafe@rafmuseum.org
URL:https://carerfriendlydudley.org.uk/event/carers-cafe-social/2026-08-07/
ATTACH;FMTTYPE=image/png:https://carerfriendlydudley.org.uk/wp-content/uploads/2026/04/Screenshot-2026-04-15-124620.png
END:VEVENT
BEGIN:VEVENT
DTSTART;TZID=Europe/London:20260904T103000
DTEND;TZID=Europe/London:20260904T120000
DTSTAMP:20260424T133942
CREATED:20260415T115025Z
LAST-MODIFIED:20260415T115025Z
UID:10006843-1788517800-1788523200@carerfriendlydudley.org.uk
SUMMARY:Carer's Café Social
DESCRIPTION:Join our relaxed social group at the Royal Air Forces Museum. This informal social group will encourage you to take the lead and chat amongst other carers. Share experiences and socialise or simply tag along and listen! \nCarer’s Café Social is usually on the first Friday of each month at RAF Museum Midlands from 10.30am – 12.00pm. \nIf you would like to know more\, please email carers.cafe@rafmuseum.org
URL:https://carerfriendlydudley.org.uk/event/carers-cafe-social/2026-09-04/
ATTACH;FMTTYPE=image/png:https://carerfriendlydudley.org.uk/wp-content/uploads/2026/04/Screenshot-2026-04-15-124620.png
END:VEVENT
BEGIN:VEVENT
DTSTART;TZID=Europe/London:20261002T103000
DTEND;TZID=Europe/London:20261002T120000
DTSTAMP:20260424T133942
CREATED:20260415T115025Z
LAST-MODIFIED:20260415T115025Z
UID:10006844-1790937000-1790942400@carerfriendlydudley.org.uk
SUMMARY:Carer's Café Social
DESCRIPTION:Join our relaxed social group at the Royal Air Forces Museum. This informal social group will encourage you to take the lead and chat amongst other carers. Share experiences and socialise or simply tag along and listen! \nCarer’s Café Social is usually on the first Friday of each month at RAF Museum Midlands from 10.30am – 12.00pm. \nIf you would like to know more\, please email carers.cafe@rafmuseum.org
URL:https://carerfriendlydudley.org.uk/event/carers-cafe-social/2026-10-02/
ATTACH;FMTTYPE=image/png:https://carerfriendlydudley.org.uk/wp-content/uploads/2026/04/Screenshot-2026-04-15-124620.png
END:VEVENT
BEGIN:VEVENT
DTSTART;TZID=Europe/London:20261106T103000
DTEND;TZID=Europe/London:20261106T120000
DTSTAMP:20260424T133942
CREATED:20260415T115025Z
LAST-MODIFIED:20260415T115025Z
UID:10006845-1793961000-1793966400@carerfriendlydudley.org.uk
SUMMARY:Carer's Café Social
DESCRIPTION:Join our relaxed social group at the Royal Air Forces Museum. This informal social group will encourage you to take the lead and chat amongst other carers. Share experiences and socialise or simply tag along and listen! \nCarer’s Café Social is usually on the first Friday of each month at RAF Museum Midlands from 10.30am – 12.00pm. \nIf you would like to know more\, please email carers.cafe@rafmuseum.org
URL:https://carerfriendlydudley.org.uk/event/carers-cafe-social/2026-11-06/
ATTACH;FMTTYPE=image/png:https://carerfriendlydudley.org.uk/wp-content/uploads/2026/04/Screenshot-2026-04-15-124620.png
END:VEVENT
BEGIN:VEVENT
DTSTART;TZID=Europe/London:20261204T103000
DTEND;TZID=Europe/London:20261204T120000
DTSTAMP:20260424T133942
CREATED:20260415T115025Z
LAST-MODIFIED:20260415T115025Z
UID:10006846-1796380200-1796385600@carerfriendlydudley.org.uk
SUMMARY:Carer's Café Social
DESCRIPTION:Join our relaxed social group at the Royal Air Forces Museum. This informal social group will encourage you to take the lead and chat amongst other carers. Share experiences and socialise or simply tag along and listen! \nCarer’s Café Social is usually on the first Friday of each month at RAF Museum Midlands from 10.30am – 12.00pm. \nIf you would like to know more\, please email carers.cafe@rafmuseum.org
URL:https://carerfriendlydudley.org.uk/event/carers-cafe-social/2026-12-04/
ATTACH;FMTTYPE=image/png:https://carerfriendlydudley.org.uk/wp-content/uploads/2026/04/Screenshot-2026-04-15-124620.png
END:VEVENT
BEGIN:VEVENT
DTSTART;TZID=Europe/London:20270101T103000
DTEND;TZID=Europe/London:20270101T120000
DTSTAMP:20260424T133942
CREATED:20260415T115025Z
LAST-MODIFIED:20260415T115025Z
UID:10006847-1798799400-1798804800@carerfriendlydudley.org.uk
SUMMARY:Carer's Café Social
DESCRIPTION:Join our relaxed social group at the Royal Air Forces Museum. This informal social group will encourage you to take the lead and chat amongst other carers. Share experiences and socialise or simply tag along and listen! \nCarer’s Café Social is usually on the first Friday of each month at RAF Museum Midlands from 10.30am – 12.00pm. \nIf you would like to know more\, please email carers.cafe@rafmuseum.org
URL:https://carerfriendlydudley.org.uk/event/carers-cafe-social/2027-01-01/
ATTACH;FMTTYPE=image/png:https://carerfriendlydudley.org.uk/wp-content/uploads/2026/04/Screenshot-2026-04-15-124620.png
END:VEVENT
BEGIN:VEVENT
DTSTART;TZID=Europe/London:20270205T103000
DTEND;TZID=Europe/London:20270205T120000
DTSTAMP:20260424T133942
CREATED:20260415T115025Z
LAST-MODIFIED:20260415T115025Z
UID:10006848-1801823400-1801828800@carerfriendlydudley.org.uk
SUMMARY:Carer's Café Social
DESCRIPTION:Join our relaxed social group at the Royal Air Forces Museum. This informal social group will encourage you to take the lead and chat amongst other carers. Share experiences and socialise or simply tag along and listen! \nCarer’s Café Social is usually on the first Friday of each month at RAF Museum Midlands from 10.30am – 12.00pm. \nIf you would like to know more\, please email carers.cafe@rafmuseum.org
URL:https://carerfriendlydudley.org.uk/event/carers-cafe-social/2027-02-05/
ATTACH;FMTTYPE=image/png:https://carerfriendlydudley.org.uk/wp-content/uploads/2026/04/Screenshot-2026-04-15-124620.png
END:VEVENT
END:VCALENDAR